BEGIN:VCALENDAR
METHOD:PUBLISH
PRODID:-//LogicWorks GmbH//NONSGML Contentory//EN
VERSION:2.0
CALSCALE:GREGORIAN
X-MS-OLK-FORCEINSPECTOROPEN:TRUE
BEGIN:VEVENT
DTSTAMP:20260422T140059Z
SUMMARY:„Quantum Effects“ 2025 Stuttgart – Europäische Innovationsplattform
  mit effektivem Matchmaking für Quantentechnologien
DESCRIPTION:Vom 7. bis 8. Oktober 2025 findet in Stuttgart die „Quantum Effects“ s
 tatt\, eine der führenden europäischen Fachmessen und Konferenzen für a
 nwendungsorientierte Quantentechnologien. Die Veranstaltung vernetzt Indus
 trie\, Start-ups und Wissenschaft\, um den Transfer von Forschungsergebnis
 sen in marktreife Anwendungen zu fördern und Europas Stellung im globalen
  Quantenwettbewerb zu festigen.
LOCATION:Landesmesse Stuttgart GmbH & Co. KG
CREATED:20250912T115439
LAST-MODIFIED:20250912T131353
DTSTART;VALUE=DATE:20251007T090000
DTEND;VALUE=DATE:20251008T170000
UID:sn_1765_date_0@logic-works.net
END:VEVENT
END:VCALENDAR