BEGIN:VCALENDAR
METHOD:PUBLISH
PRODID:-//LogicWorks GmbH//NONSGML Contentory//EN
VERSION:2.0
CALSCALE:GREGORIAN
X-MS-OLK-FORCEINSPECTOROPEN:TRUE
BEGIN:VEVENT
DTSTAMP:20260423T182011Z
SUMMARY:Processes4Planet Horizon Europe Brokerage Event
DESCRIPTION:A.SPIRE veranstaltet ein "Processes4Plantet Horizon Europe Brokerage Event
 ". 
LOCATION:Online
CREATED:20210201T083136
LAST-MODIFIED:20210201T155908
DTSTART;VALUE=DATE:20210208T000000
DTEND;VALUE=DATE:20210219T235959
UID:sn_153_date_0@logic-works.net
END:VEVENT
END:VCALENDAR