BEGIN:VCALENDAR
METHOD:PUBLISH
PRODID:-//LogicWorks GmbH//NONSGML Contentory//EN
VERSION:2.0
CALSCALE:GREGORIAN
X-MS-OLK-FORCEINSPECTOROPEN:TRUE
BEGIN:VEVENT
DTSTAMP:20260425T214923Z
SUMMARY:Processes4Planet – Ausschreibungsthemen 2023 bis 2024
DESCRIPTION:Die NKS DIT veranstaltet eine Vorstellungs- und Diskussionsrunde mit Theme
 n der Partnerschaft „Processes4Planet“. Sie erhalten dabei Einblicke i
 n vergangene und gegenwärtige Entwicklungen des aktuellen Arbeitsprogramm
 s\, sowie eine Vorausschau über zukünftige Themen mit besonderem Bezug z
 u Cluster 4.
LOCATION:Online
CREATED:20230103T130018
LAST-MODIFIED:20230120T162325
DTSTART;VALUE=DATE:20230227T100000
DTEND;VALUE=DATE:20230227T123000
UID:sn_675_date_0@logic-works.net
END:VEVENT
END:VCALENDAR