BEGIN:VCALENDAR
METHOD:PUBLISH
PRODID:-//LogicWorks GmbH//NONSGML Contentory//EN
VERSION:2.0
CALSCALE:GREGORIAN
X-MS-OLK-FORCEINSPECTOROPEN:TRUE
BEGIN:VEVENT
DTSTAMP:20260423T133151Z
SUMMARY:Process4Planet Infoday
DESCRIPTION:Das Netzwerkprojekt NCP4Industry der National Contact Points zu den Indust
 riethemen in Cluster 4 informiert im Rahmen dieses Online Events über die
  Process4Planet-Partnerschaft
LOCATION:Online
CREATED:20231030T111118
LAST-MODIFIED:20231030T111118
DTSTART;VALUE=DATE:20231109T100000
DTEND;VALUE=DATE:20231109T120000
UID:sn_869_date_0@logic-works.net
END:VEVENT
END:VCALENDAR