BEGIN:VCALENDAR
METHOD:PUBLISH
PRODID:-//LogicWorks GmbH//NONSGML Contentory//EN
VERSION:2.0
CALSCALE:GREGORIAN
X-MS-OLK-FORCEINSPECTOROPEN:TRUE
BEGIN:VEVENT
DTSTAMP:20260421T232536Z
SUMMARY:Post-Quantum Transition Workshop in Prag
DESCRIPTION:Diskutieren Sie mit internationalen Expertinnen und Experten über den Üb
 ergang zu quantensicheren Technologien beim Post-Quantum Transition Worksh
 op am 4. Dezember 2024 in Prag!
LOCATION:Hotel Olympic
CREATED:20241118T110325
LAST-MODIFIED:20241118T124047
DTSTART;VALUE=DATE:20241204T093000
DTEND;VALUE=DATE:20241204T160000
UID:sn_1318_date_0@logic-works.net
END:VEVENT
END:VCALENDAR