BEGIN:VCALENDAR
METHOD:PUBLISH
PRODID:-//LogicWorks GmbH//NONSGML Contentory//EN
VERSION:2.0
CALSCALE:GREGORIAN
X-MS-OLK-FORCEINSPECTOROPEN:TRUE
BEGIN:VEVENT
DTSTAMP:20260423T134516Z
SUMMARY:„Photonics21“-Partnerschaft: Online-Workshop zum Horizont-Europa-Arbei
 tsprogramm 2025
DESCRIPTION:Ziel des Workshops ist es\, die zukünftigen Forschungs- und Innovationspr
 ioritäten für Photonik im Bereich der digitalen Infrastruktur für das k
 ommende Horizont-Europa-Arbeitsprogramm 2025 weiterzudiskutieren.
LOCATION:online
CREATED:20230606T141904
LAST-MODIFIED:20230606T153650
DTSTART;VALUE=DATE:20230627T100000
DTEND;VALUE=DATE:20230627T120000
UID:sn_779_date_0@logic-works.net
END:VEVENT
END:VCALENDAR