BEGIN:VCALENDAR
METHOD:PUBLISH
PRODID:-//LogicWorks GmbH//NONSGML Contentory//EN
VERSION:2.0
CALSCALE:GREGORIAN
X-MS-OLK-FORCEINSPECTOROPEN:TRUE
BEGIN:VEVENT
DTSTAMP:20260423T182456Z
SUMMARY:Partnersuche in Horizont Europa
DESCRIPTION:Am 05.10.2023 informiert Sie die NKS DIT zu der Frage\, wie Sie PartnerInn
 en für einen gemeinsamen Antrag in Horizont Europa finden.
LOCATION:online
CREATED:20230915T121213
LAST-MODIFIED:20230915T124849
DTSTART;VALUE=DATE:20231005T140000
DTEND;VALUE=DATE:20231005T153000
UID:sn_835_date_0@logic-works.net
END:VEVENT
END:VCALENDAR