BEGIN:VCALENDAR
METHOD:PUBLISH
PRODID:-//LogicWorks GmbH//NONSGML Contentory//EN
VERSION:2.0
CALSCALE:GREGORIAN
X-MS-OLK-FORCEINSPECTOROPEN:TRUE
BEGIN:VEVENT
DTSTAMP:20260423T165551Z
SUMMARY:Partnersuche in Horizont Europa
DESCRIPTION:Am 08.12.2022 informiert Sie die NKS DIT zu der Frage\, wie Sie PartnerInn
 en für einen gemeinsamen Antrag in Horizont Europa finden.
LOCATION:online
CREATED:20221202T151849
LAST-MODIFIED:20221202T151849
DTSTART;VALUE=DATE:20221208T110000
DTEND;VALUE=DATE:20221208T123000
UID:sn_646_date_0@logic-works.net
END:VEVENT
END:VCALENDAR