BEGIN:VCALENDAR
METHOD:PUBLISH
PRODID:-//LogicWorks GmbH//NONSGML Contentory//EN
VERSION:2.0
CALSCALE:GREGORIAN
X-MS-OLK-FORCEINSPECTOROPEN:TRUE
BEGIN:VEVENT
DTSTAMP:20260423T121453Z
SUMMARY:Horizont Europa: Virtuelle Partnering-Veranstaltung für Anwender und ihre
  Forschungspartner in Cluster 3 am 26. und 27. April 2022
DESCRIPTION:Am 26. und 27. April 2022 veranstaltet die Nationale Kontaktstelle Sicherh
 eitsforschung gemeinsam mit anderen europäischen Kontaktstellen des Clust
 ers „Zivile Sicherheit für die Gesellschaft“ (Österreich\, Frankreic
 h\, den Niederlanden\, Spanien und Schweden) eine anwenderorientierte\, vi
 rtuelle Partnering-Veranstaltung.
LOCATION:online
CREATED:20220420T103203
LAST-MODIFIED:20220420T103203
DTSTART;VALUE=DATE:20220426T100000
DTEND;VALUE=DATE:20220427T200000
UID:sn_457_date_0@logic-works.net
END:VEVENT
END:VCALENDAR