BEGIN:VCALENDAR
METHOD:PUBLISH
PRODID:-//LogicWorks GmbH//NONSGML Contentory//EN
VERSION:2.0
CALSCALE:GREGORIAN
X-MS-OLK-FORCEINSPECTOROPEN:TRUE
BEGIN:VEVENT
DTSTAMP:20260423T135258Z
SUMMARY:Opportunities in Horizon Europe: The Digital Series – Horizon Europe Dig
 ital and Emerging Technologies (including AI)
DESCRIPTION:Die britische NKS für Horizont Europa lädt am 29.11.23 von 10:30 CET bis
  13:00 CET zu einem Webinar rund um digitale Technologien im Cluster 4 ein
  und gibt im Rahmen der Veranstaltung die Möglichkeit zum Pitching eigene
 r Projektideen.
LOCATION:online
CREATED:20231122T093023
LAST-MODIFIED:20231122T093023
DTSTART;VALUE=DATE:20231129T103000
DTEND;VALUE=DATE:20231129T130000
UID:sn_885_date_0@logic-works.net
END:VEVENT
END:VCALENDAR