BEGIN:VCALENDAR
METHOD:PUBLISH
PRODID:-//LogicWorks GmbH//NONSGML Contentory//EN
VERSION:2.0
CALSCALE:GREGORIAN
X-MS-OLK-FORCEINSPECTOROPEN:TRUE
BEGIN:VEVENT
DTSTAMP:20260421T085226Z
SUMMARY:Online Wissensaustausch zu Cloud/Edge Sicherheitsherausforderungen
DESCRIPTION:Das European Cyber Security Community Project (ECCO)\, in Zusammenarbeit m
 it dem ECCC (European Cybersecurity Competence Centre)\, lädt am 12. Nove
 mber 2024 zu einem Online-Wissensaustausch über zentrale Cybersicherheits
 herausforderungen innerhalb des European Computing Continuum ein.
LOCATION:online
CREATED:20241107T112407
LAST-MODIFIED:20241107T145404
DTSTART;VALUE=DATE:20241112T160000
DTEND;VALUE=DATE:20241112T170000
UID:sn_1298_date_0@logic-works.net
END:VEVENT
END:VCALENDAR