BEGIN:VCALENDAR
METHOD:PUBLISH
PRODID:-//LogicWorks GmbH//NONSGML Contentory//EN
VERSION:2.0
CALSCALE:GREGORIAN
X-MS-OLK-FORCEINSPECTOROPEN:TRUE
BEGIN:VEVENT
DTSTAMP:20260423T165027Z
SUMMARY:Online-Informations- und Matchmaking-Veranstaltung – Digitales Europa: C
 ybersicherheit & Co
DESCRIPTION:Die Nationale Kontaktstellen aus Österreich\, den nordischen Ländern und
  den Benelux-Staaten veranstalten eine Online-Informations- und Matchmakin
 g-Veranstaltung zu aktuellen Themen der offenen Ausschreibungen im Rahmen 
 des Förderprogramms „Digitales Europa“.
LOCATION:online
CREATED:20240808T110822
LAST-MODIFIED:20240808T110826
DTSTART;VALUE=DATE:20240904T130000
DTEND;VALUE=DATE:20240904T150000
UID:sn_1187_date_0@logic-works.net
END:VEVENT
END:VCALENDAR