BEGIN:VCALENDAR
METHOD:PUBLISH
PRODID:-//LogicWorks GmbH//NONSGML Contentory//EN
VERSION:2.0
CALSCALE:GREGORIAN
X-MS-OLK-FORCEINSPECTOROPEN:TRUE
BEGIN:VEVENT
DTSTAMP:20260423T165646Z
SUMMARY:Online info day on challenge-driven GenAI4EU booster call under Horizon Eu
 rope
DESCRIPTION:Das AI Office der EU-Kommission lädt am 18.06.25 ab 09:30 Uhr zu einem vi
 rtuellen Info Day speziell zum Call Topic HORIZON-CL4-2025-03-DIGITAL-EMER
 ING-09 ein.
LOCATION:online
CREATED:20250604T170648
LAST-MODIFIED:20250604T170651
DTSTART;VALUE=DATE:20250618T093000
DTEND;VALUE=DATE:20250618T113000
UID:sn_1614_date_0@logic-works.net
END:VEVENT
END:VCALENDAR