BEGIN:VCALENDAR
METHOD:PUBLISH
PRODID:-//LogicWorks GmbH//NONSGML Contentory//EN
VERSION:2.0
CALSCALE:GREGORIAN
X-MS-OLK-FORCEINSPECTOROPEN:TRUE
BEGIN:VEVENT
DTSTAMP:20260422T160102Z
SUMMARY:Online Brokerage Event von Ideal-Ist zu den digitalen Themen im Cluster 4
DESCRIPTION:Das NKS-Netzwerk Ideal-Ist begleitet die Cluster 4 Info Days der EU-Kommis
 sion wie immer mit einem virtuellen Brokerage Event\, das diesmal am 15. /
  16. Mai stattfinden wird.
LOCATION:online
CREATED:20250402T132017
LAST-MODIFIED:20250416T160820
DTSTART;VALUE=DATE:20250515T070000
DTEND;VALUE=DATE:20250516T180000
UID:sn_1506_date_0@logic-works.net
END:VEVENT
END:VCALENDAR