BEGIN:VCALENDAR
METHOD:PUBLISH
PRODID:-//LogicWorks GmbH//NONSGML Contentory//EN
VERSION:2.0
CALSCALE:GREGORIAN
X-MS-OLK-FORCEINSPECTOROPEN:TRUE
BEGIN:VEVENT
DTSTAMP:20260423T165327Z
SUMMARY:Künstliche Intelligenz für Europa: Förderung für internationale F&E-Pr
 ojekte
DESCRIPTION:Welche EU-Ausschreibungen für KI-Projekte wird es im Innovationsprogramm 
 "Horizont Europa" geben? Was müssen Unternehmen und Forschungseinrichtung
 en wissen\, die einen Antrag stellen wollen?
LOCATION:online
CREATED:20210416T133517
LAST-MODIFIED:20210416T152638
DTSTART;VALUE=DATE:20210428T150000
DTEND;VALUE=DATE:20210428T163000
UID:sn_214_date_0@logic-works.net
END:VEVENT
END:VCALENDAR