BEGIN:VCALENDAR
METHOD:PUBLISH
PRODID:-//LogicWorks GmbH//NONSGML Contentory//EN
VERSION:2.0
CALSCALE:GREGORIAN
X-MS-OLK-FORCEINSPECTOROPEN:TRUE
BEGIN:VEVENT
DTSTAMP:20260423T164438Z
SUMMARY:Open Innovation Test Beds as a Service to the Industry
DESCRIPTION:Am 4. Mai 2021 findet im Rahmen des EuroNanoForums 2021 der Workshop "Open
  Innovation Test Beds as a Service to the Industry" statt.
LOCATION:online
CREATED:20210426T111330
LAST-MODIFIED:20210426T121146
DTSTART;VALUE=DATE:20210504T140000
DTEND;VALUE=DATE:20210504T173000
UID:sn_217_date_0@logic-works.net
END:VEVENT
END:VCALENDAR