BEGIN:VCALENDAR
METHOD:PUBLISH
PRODID:-//LogicWorks GmbH//NONSGML Contentory//EN
VERSION:2.0
CALSCALE:GREGORIAN
X-MS-OLK-FORCEINSPECTOROPEN:TRUE
BEGIN:VEVENT
DTSTAMP:20260423T121619Z
SUMMARY:NRW-FIT in Europa: Erfolgreiche Antragstellung in Horizont Europa
DESCRIPTION:Die Zenit GMBH bietet gemeinsam mit der Nationalen Kontaktstelle Digitale 
 und Industrielle Technologien (NKS DIT) eine Schulung aus der Reihe NRW-FI
 T in Europa zum Thema „Erfolgreiche Antragstellung in Horizont Europa“
  an.
LOCATION:Online
CREATED:20210813T111234
LAST-MODIFIED:20210813T111234
DTSTART;VALUE=DATE:20210825T100000
DTEND;VALUE=DATE:20210825T160000
UID:sn_279_date_0@logic-works.net
END:VEVENT
END:VCALENDAR