BEGIN:VCALENDAR
METHOD:PUBLISH
PRODID:-//LogicWorks GmbH//NONSGML Contentory//EN
VERSION:2.0
CALSCALE:GREGORIAN
X-MS-OLK-FORCEINSPECTOROPEN:TRUE
BEGIN:VEVENT
DTSTAMP:20260423T163948Z
SUMMARY:NMWP Innovation2GO WebTalk
DESCRIPTION:Im NMWP Innovation2GO WebTalk „Förderung der industriellen Technologien
  in Horizont Europa“ wird die NKS DIT einen Einblick in ausgewählte 202
 2er-Ausschreibungen geben.
LOCATION:online
CREATED:20211015T095727
LAST-MODIFIED:20211015T100715
DTSTART;VALUE=DATE:20211021T160000
DTEND;VALUE=DATE:20211021T170000
UID:sn_310_date_0@logic-works.net
END:VEVENT
END:VCALENDAR