BEGIN:VCALENDAR
METHOD:PUBLISH
PRODID:-//LogicWorks GmbH//NONSGML Contentory//EN
VERSION:2.0
CALSCALE:GREGORIAN
X-MS-OLK-FORCEINSPECTOROPEN:TRUE
BEGIN:VEVENT
DTSTAMP:20260423T163000Z
SUMMARY:Auf zum neuen Horizont - NKS L Symposium zu Horizont Europa
DESCRIPTION:Jeweils von 9:00 - 13:00 Uhr lädt die Nationale Kontaktstelle Lebenswisse
 nschaften (NKS -L) zum virtuellen Symposium ein.
LOCATION:Online
CREATED:20210112T084328
LAST-MODIFIED:20210201T155755
DTSTART;VALUE=DATE:20210126T090000
DTEND;VALUE=DATE:20210127T130000
UID:sn_139_date_0@logic-works.net
END:VEVENT
END:VCALENDAR