BEGIN:VCALENDAR
METHOD:PUBLISH
PRODID:-//LogicWorks GmbH//NONSGML Contentory//EN
VERSION:2.0
CALSCALE:GREGORIAN
X-MS-OLK-FORCEINSPECTOROPEN:TRUE
BEGIN:VEVENT
DTSTAMP:20260423T135043Z
SUMMARY:NKCS Fachkonferenz 2025
DESCRIPTION:Die Fachkonferenz richtet den Fokus auf "Cybersicherheit in Europa: Synerg
 ien fördern\, Souveränität stärken“. Diskutieren Sie mit Expertinnen
  und Experten aktuelle Herausforderungen\, Trends und Fördermöglichkeite
 n.
LOCATION:Marriott Hotel
CREATED:20250801T134551
LAST-MODIFIED:20250801T135017
DTSTART;VALUE=DATE:20251030T120000
DTEND;VALUE=DATE:20251030T183000
UID:sn_1724_date_0@logic-works.net
END:VEVENT
END:VCALENDAR