BEGIN:VCALENDAR
METHOD:PUBLISH
PRODID:-//LogicWorks GmbH//NONSGML Contentory//EN
VERSION:2.0
CALSCALE:GREGORIAN
X-MS-OLK-FORCEINSPECTOROPEN:TRUE
BEGIN:VEVENT
DTSTAMP:20260424T090354Z
SUMMARY:New Partnership in Horizon Europe: Textiles of the Future
DESCRIPTION:Das NKS-Netzwerkprojekt „NCP4Industry“ veranstaltet mit der EU-Kommiss
 ion und Vertretenden der Textiles ETP eine Informationsveranstaltung zur n
 euen ko-programmierten Partnerschaft „Textiles of the Future“.
LOCATION:Online
CREATED:20250227T125107
LAST-MODIFIED:20250227T125107
DTSTART;VALUE=DATE:20250415T093000
DTEND;VALUE=DATE:20250415T110000
UID:sn_1474_date_0@logic-works.net
END:VEVENT
END:VCALENDAR