BEGIN:VCALENDAR
METHOD:PUBLISH
PRODID:-//LogicWorks GmbH//NONSGML Contentory//EN
VERSION:2.0
CALSCALE:GREGORIAN
X-MS-OLK-FORCEINSPECTOROPEN:TRUE
BEGIN:VEVENT
DTSTAMP:20260420T121636Z
SUMMARY:New European Bauhaus
DESCRIPTION:Das Joint Research Centre (JRC) der Europäischen Kommission organisiert a
 b dem 15. Februar 2021 eine Reihe von kurzen Informationsveranstaltungen z
 ur Initiative des New European Bauhaus.
LOCATION:Online
CREATED:20210215T113430
LAST-MODIFIED:20210215T113525
DTSTART;VALUE=DATE:20210215T000000
DTEND;VALUE=DATE:20210226T235959
UID:sn_166_date_0@logic-works.net
END:VEVENT
END:VCALENDAR