BEGIN:VCALENDAR
METHOD:PUBLISH
PRODID:-//LogicWorks GmbH//NONSGML Contentory//EN
VERSION:2.0
CALSCALE:GREGORIAN
X-MS-OLK-FORCEINSPECTOROPEN:TRUE
BEGIN:VEVENT
DTSTAMP:20260422T211553Z
SUMMARY:Neue EU-Aufrufe für Verbundwerkstoffe – ist das für KMU oder kann das 
 weg?
DESCRIPTION:Der Composites United e.V. veranstaltet am 26. Mai 2025 ein Jour fixe zum 
 Thema EU-Förderaufrufe für Verbundwerkstoffe mit dem Fokus auf der KMU-B
 eteiligung. Die NKS DIT beteiligt sich unter anderem auch an der Veranstal
 tung mit einem Vortrag.
LOCATION:Online
CREATED:20250408T160413
LAST-MODIFIED:20250409T085345
DTSTART;VALUE=DATE:20250526T140000
DTEND;VALUE=DATE:20250526T153000
UID:sn_1518_date_0@logic-works.net
END:VEVENT
END:VCALENDAR