BEGIN:VCALENDAR
METHOD:PUBLISH
PRODID:-//LogicWorks GmbH//NONSGML Contentory//EN
VERSION:2.0
CALSCALE:GREGORIAN
X-MS-OLK-FORCEINSPECTOROPEN:TRUE
BEGIN:VEVENT
DTSTAMP:20260423T165120Z
SUMMARY:New features of the Funding and Tenders Portal
DESCRIPTION:Die EU-Kommission veranstaltet am 28. September 2021 ein Webinar zu neuen 
 Funktionen in ihrem Funding and Tenders Portal.
LOCATION:online
CREATED:20210921T095045
LAST-MODIFIED:20210921T103932
DTSTART;VALUE=DATE:20210928T140000
DTEND;VALUE=DATE:20210928T153000
UID:sn_294_date_0@logic-works.net
END:VEVENT
END:VCALENDAR