BEGIN:VCALENDAR
METHOD:PUBLISH
PRODID:-//LogicWorks GmbH//NONSGML Contentory//EN
VERSION:2.0
CALSCALE:GREGORIAN
X-MS-OLK-FORCEINSPECTOROPEN:TRUE
BEGIN:VEVENT
DTSTAMP:20260421T091847Z
SUMMARY:Das Neue Europäische Bauhaus – erfolgreich durch Forschen und Vernetzen
DESCRIPTION:Horizont Europa fördert Projekte zum Neuen Europäischen Bauhaus (NEB). G
 leichzeitig eröffnet das NEB viele Vernetzungsoptionen und honoriert gute
  Ideen und innovative Ansätze. Die Nationalen Kontaktstellen (NKS) in Hor
 izont Europa und der Nationale Kontaktpunkt für das NEB stellen in einer 
 Online-Veranstaltung die NEB-Inhalte und ihre Service-Angebote vor.
LOCATION:online
CREATED:20221019T090806
LAST-MODIFIED:20221019T120139
DTSTART;VALUE=DATE:20221206T140000
DTEND;VALUE=DATE:20221206T161500
UID:sn_621_date_0@logic-works.net
END:VEVENT
END:VCALENDAR