BEGIN:VCALENDAR
METHOD:PUBLISH
PRODID:-//LogicWorks GmbH//NONSGML Contentory//EN
VERSION:2.0
CALSCALE:GREGORIAN
X-MS-OLK-FORCEINSPECTOROPEN:TRUE
BEGIN:VEVENT
DTSTAMP:20260426T051505Z
SUMMARY:NCP4Industry Plus - Full Proposal Check Event 2026
DESCRIPTION:Das NKS-Netzwerkprojekt „NCP4Industry Plus“ veranstaltet vom 7. - 10. 
 April 2026 ein Proposal Check Event mit erfahrenen Evaluierenden. Im Fokus
  stehen die Ausschreibungen in der Destination „Leadership in materials 
 and production for Europe“ von Cluster 4 in Horizont Europa. Die Teilnah
 me ist nur nach vorheriger Anmeldung und Auswahl möglich.
LOCATION:Online
CREATED:20260114T140923
LAST-MODIFIED:20260114T140923
DTSTART;VALUE=DATE:20260407T110000
DTEND;VALUE=DATE:20260410T130000
UID:sn_2049_date_0@logic-works.net
END:VEVENT
END:VCALENDAR