BEGIN:VCALENDAR
METHOD:PUBLISH
PRODID:-//LogicWorks GmbH//NONSGML Contentory//EN
VERSION:2.0
CALSCALE:GREGORIAN
X-MS-OLK-FORCEINSPECTOROPEN:TRUE
BEGIN:VEVENT
DTSTAMP:20260423T170308Z
SUMMARY:Missionen in Horizont Europa – Fördermöglichkeiten in der Krebsmission
DESCRIPTION:Die Nationale Kontaktstelle Gesundheit veranstaltet am 26. Januar 2022 ein
 e Informationsveranstaltung zur Krebsmission.
LOCATION:Online
CREATED:20220113T100441
LAST-MODIFIED:20220113T100441
DTSTART;VALUE=DATE:20220126T100000
DTEND;VALUE=DATE:20220126T113000
UID:sn_375_date_0@logic-works.net
END:VEVENT
END:VCALENDAR