BEGIN:VCALENDAR
METHOD:PUBLISH
PRODID:-//LogicWorks GmbH//NONSGML Contentory//EN
VERSION:2.0
CALSCALE:GREGORIAN
X-MS-OLK-FORCEINSPECTOROPEN:TRUE
BEGIN:VEVENT
DTSTAMP:20260423T170230Z
SUMMARY:Missionen in Horizont Europa – Ihre Fördermöglichkeiten 2022
DESCRIPTION:Die fünf Europäischen Missionen zu den Themen Klimaanpassung\, Krebs\, G
 ewässer\, Städte und Böden veröffentlichen demnächst die neuen Aussch
 reibungen für das Jahr 2022. In mehreren thematischen Online-Informations
 veranstaltungen vom 29. April bis zum 25. Mai 2022 präsentieren Ihnen die
  beratenden Nationalen Kontaktstellen Ihre Fördermöglichkeiten.
LOCATION:online
CREATED:20220411T075516
LAST-MODIFIED:20220411T075516
DTSTART;VALUE=DATE:20220429T000000
DTEND;VALUE=DATE:20220525T235959
UID:sn_455_date_0@logic-works.net
END:VEVENT
END:VCALENDAR