BEGIN:VCALENDAR
METHOD:PUBLISH
PRODID:-//LogicWorks GmbH//NONSGML Contentory//EN
VERSION:2.0
CALSCALE:GREGORIAN
X-MS-OLK-FORCEINSPECTOROPEN:TRUE
BEGIN:VEVENT
DTSTAMP:20260422T182839Z
SUMMARY:MaterialsWeek 2021
DESCRIPTION:Die MaterialsWeek 2021 findet vom 07. – 09. September 2021 als virtuelle
 r Kongress und Ausstellung statt. Treffen Sie sich mit den Mitarbeitenden 
 auf dem digitalen Messestand der NKS DIT (Industriellen Technologien).
LOCATION:Online
CREATED:20210727T105923
LAST-MODIFIED:20210727T105923
DTSTART;VALUE=DATE:20210907T000000
DTEND;VALUE=DATE:20210909T235959
UID:sn_269_date_0@logic-works.net
END:VEVENT
END:VCALENDAR