BEGIN:VCALENDAR
METHOD:PUBLISH
PRODID:-//LogicWorks GmbH//NONSGML Contentory//EN
VERSION:2.0
CALSCALE:GREGORIAN
X-MS-OLK-FORCEINSPECTOROPEN:TRUE
BEGIN:VEVENT
DTSTAMP:20260422T183258Z
SUMMARY:The Manufacturing Partnership Days
DESCRIPTION:In der zweitägigen Veranstaltung stellen sich Projekte aus der Made in Eu
 rope und der Factories of the Future Partnerschaft vor.
LOCATION:BluePoint
CREATED:20240429T132256
LAST-MODIFIED:20240429T133811
DTSTART;VALUE=DATE:20240507T083000
DTEND;VALUE=DATE:20240508T160000
UID:sn_1000_date_0@logic-works.net
END:VEVENT
END:VCALENDAR