BEGIN:VCALENDAR
METHOD:PUBLISH
PRODID:-//LogicWorks GmbH//NONSGML Contentory//EN
VERSION:2.0
CALSCALE:GREGORIAN
X-MS-OLK-FORCEINSPECTOROPEN:TRUE
BEGIN:VEVENT
DTSTAMP:20260420T174747Z
SUMMARY:Mandatory Use of 2-Factor Authentication (2FA): be prepared!
DESCRIPTION:Am 13. Mai lädt die EU-Kommission zu einer kurzen Infoveranstaltung zum T
 hema Zwei-Faktor-Authentisierung im Funding & Tenders Portal ein.
LOCATION:Online
CREATED:20260420T130945
LAST-MODIFIED:20260420T130945
DTSTART;VALUE=DATE:20260513T100000
DTEND;VALUE=DATE:20260513T113000
UID:sn_2204_date_0@logic-works.net
END:VEVENT
END:VCALENDAR