BEGIN:VCALENDAR
METHOD:PUBLISH
PRODID:-//LogicWorks GmbH//NONSGML Contentory//EN
VERSION:2.0
CALSCALE:GREGORIAN
X-MS-OLK-FORCEINSPECTOROPEN:TRUE
BEGIN:VEVENT
DTSTAMP:20260423T133800Z
SUMMARY:Lump Sum Projekte in Horizont Europa
DESCRIPTION:Die NKS DIT veranstaltet\, mit Unterstützung der NKS Recht und Finanzen\,
  am Mittwoch\, den 15.11.2023\, ein Online-Seminar zu Lump Sum Projekten i
 n Horizont Europa. Das Lump Sum Instrument wurde für Cluster 4 erstmalig 
 im Arbeitsprogramm 2023/2024 eingeführt. Mittlerweile hat die EU-Kommissi
 on die ersten Finanzhilfevereinbarungen mit Projekten\, die ihre Kosten ü
 ber das Lump Sum Verfahren abrechnen müssen\, abgeschlossen.
LOCATION:online
CREATED:20231109T092606
LAST-MODIFIED:20231109T162118
DTSTART;VALUE=DATE:20231115T140000
DTEND;VALUE=DATE:20231115T153000
UID:sn_875_date_0@logic-works.net
END:VEVENT
END:VCALENDAR