BEGIN:VCALENDAR
METHOD:PUBLISH
PRODID:-//LogicWorks GmbH//NONSGML Contentory//EN
VERSION:2.0
CALSCALE:GREGORIAN
X-MS-OLK-FORCEINSPECTOROPEN:TRUE
BEGIN:VEVENT
DTSTAMP:20260423T140028Z
SUMMARY:Lump Sum Funding in Horizon Europe: How does it work? How to write a propo
 sal?
DESCRIPTION:In der Veranstaltung informiert die EU-Kommission Teilnehmende über die B
 esonderheiten der Antragstellung und Projektdurchführung zu Ausschreibung
 sthemen mit Pauschalfinanzierung.
LOCATION:Online
CREATED:20240909T111757
LAST-MODIFIED:20241021T132502
DTSTART;VALUE=DATE:20241023T100000
DTEND;VALUE=DATE:20241023T120000
UID:sn_1229_date_0@logic-works.net
END:VEVENT
END:VCALENDAR