BEGIN:VCALENDAR
METHOD:PUBLISH
PRODID:-//LogicWorks GmbH//NONSGML Contentory//EN
VERSION:2.0
CALSCALE:GREGORIAN
X-MS-OLK-FORCEINSPECTOROPEN:TRUE
BEGIN:VEVENT
DTSTAMP:20260426T052102Z
SUMMARY:Lump Sum Funding in Horizon Europe: How does it work? How to write a propo
 sal?
DESCRIPTION:Am 16. Mai 2024 bietet die EU-Kommission wieder die Gelegenheit an einem W
 ebinar zum Thema „Lump Sum Funding“ teilzunehmen\, Fragen zu stellen u
 nd Erfahrungen auszutauschen.
LOCATION:Online
CREATED:20240412T101102
LAST-MODIFIED:20240412T101102
DTSTART;VALUE=DATE:20240516T100000
DTEND;VALUE=DATE:20240516T120000
UID:sn_976_date_0@logic-works.net
END:VEVENT
END:VCALENDAR