BEGIN:VCALENDAR
METHOD:PUBLISH
PRODID:-//LogicWorks GmbH//NONSGML Contentory//EN
VERSION:2.0
CALSCALE:GREGORIAN
X-MS-OLK-FORCEINSPECTOROPEN:TRUE
BEGIN:VEVENT
DTSTAMP:20260423T121621Z
SUMMARY:Lump Sum funding in Horizon Europe: How does it work and what are the next
  steps?
DESCRIPTION:Webinar für Interessenverbände und NKS
LOCATION:online
CREATED:20220322T132846
LAST-MODIFIED:20220322T133751
DTSTART;VALUE=DATE:20220407T100000
DTEND;VALUE=DATE:20220407T113000
UID:sn_437_date_0@logic-works.net
END:VEVENT
END:VCALENDAR