BEGIN:VCALENDAR
METHOD:PUBLISH
PRODID:-//LogicWorks GmbH//NONSGML Contentory//EN
VERSION:2.0
CALSCALE:GREGORIAN
X-MS-OLK-FORCEINSPECTOROPEN:TRUE
BEGIN:VEVENT
DTSTAMP:20260423T121536Z
SUMMARY:Lump Sum Funding in Horizon Europe: How does it work? How to write a propo
 sal?
DESCRIPTION:Am 11.05.2023 informiert die EU-Kommission von 10:00 CEST bis 12:00 CEST (
 potentielle) Antragstellende erneut über die Regelungen rund um Lump-Sum-
 Funding.
LOCATION:Online
CREATED:20230403T121247
LAST-MODIFIED:20230403T121838
DTSTART;VALUE=DATE:20230511T100000
DTEND;VALUE=DATE:20230511T120000
UID:sn_744_date_0@logic-works.net
END:VEVENT
END:VCALENDAR