BEGIN:VCALENDAR
METHOD:PUBLISH
PRODID:-//LogicWorks GmbH//NONSGML Contentory//EN
VERSION:2.0
CALSCALE:GREGORIAN
X-MS-OLK-FORCEINSPECTOROPEN:TRUE
BEGIN:VEVENT
DTSTAMP:20260423T133029Z
SUMMARY:Launch Event: Showcasing the future of innovation in AI\, Data and Robotic
 s
DESCRIPTION:Adra-e\, die AIonDemand-Plattform und die EU-Kommission laden zum Launch E
 vent der Projekte ein\, die in den Cluster 4 Calls 2022 und 2023 zu KI\, D
 aten und Robotik eine Förderung erhalten haben. 
LOCATION:online
CREATED:20240214T143015
LAST-MODIFIED:20240214T143540
DTSTART;VALUE=DATE:20240222T090000
DTEND;VALUE=DATE:20240222T140000
UID:sn_937_date_0@logic-works.net
END:VEVENT
END:VCALENDAR