BEGIN:VCALENDAR
METHOD:PUBLISH
PRODID:-//LogicWorks GmbH//NONSGML Contentory//EN
VERSION:2.0
CALSCALE:GREGORIAN
X-MS-OLK-FORCEINSPECTOROPEN:TRUE
BEGIN:VEVENT
DTSTAMP:20260420T111035Z
SUMMARY:„KoWi vernetzt“ – Help – I need to implement a Gender Equality Pla
 n!
DESCRIPTION:Die Kooperationsstelle EU der Wissenschaftsorganisationen (KoWi) organisie
 rt im Rahmen der Veranstaltungsreihe „KoWi vernetzt – Alternativ zur B
 uTa 2021“ ein Online-Seminar zum Gender Equality Plan in Horizont Europa
 .
LOCATION:online
CREATED:20211115T093146
LAST-MODIFIED:20211115T093146
DTSTART;VALUE=DATE:20211129T140000
DTEND;VALUE=DATE:20211129T153000
UID:sn_331_date_0@logic-works.net
END:VEVENT
END:VCALENDAR