BEGIN:VCALENDAR
METHOD:PUBLISH
PRODID:-//LogicWorks GmbH//NONSGML Contentory//EN
VERSION:2.0
CALSCALE:GREGORIAN
X-MS-OLK-FORCEINSPECTOROPEN:TRUE
BEGIN:VEVENT
DTSTAMP:20260421T104739Z
SUMMARY:KoWi vernetzt - Alternativ zur BuTa 2021: Das neue Annotated MGA – Lost 
 in explanation?
DESCRIPTION:Am 28. Oktober 2021 veranstaltet die KoWi ein Online-Seminar zum neuen Ann
 otated MGA in Horizont Europa.
LOCATION:online
CREATED:20211011T102512
LAST-MODIFIED:20211011T102512
DTSTART;VALUE=DATE:20211028T100000
DTEND;VALUE=DATE:20211028T120000
UID:sn_308_date_0@logic-works.net
END:VEVENT
END:VCALENDAR