BEGIN:VCALENDAR
METHOD:PUBLISH
PRODID:-//LogicWorks GmbH//NONSGML Contentory//EN
VERSION:2.0
CALSCALE:GREGORIAN
X-MS-OLK-FORCEINSPECTOROPEN:TRUE
BEGIN:VEVENT
DTSTAMP:20260423T165000Z
SUMMARY:Virtual Horizon Europe (2021-2027) Kick-Off Event of TUM and LMU
DESCRIPTION:Die Technische Universität München und die Ludwig-Maximilian-Universitä
 t München veranstalten gemeinsam ein virtuelles Kick-Off-Event für das 
 EU-Forschungsprogramm Horizont Europa.
LOCATION:Online
CREATED:20210119T151806
LAST-MODIFIED:20210201T155805
DTSTART;VALUE=DATE:20210210T090000
DTEND;VALUE=DATE:20210210T150000
UID:sn_141_date_0@logic-works.net
END:VEVENT
END:VCALENDAR