BEGIN:VCALENDAR
METHOD:PUBLISH
PRODID:-//LogicWorks GmbH//NONSGML Contentory//EN
VERSION:2.0
CALSCALE:GREGORIAN
X-MS-OLK-FORCEINSPECTOROPEN:TRUE
BEGIN:VEVENT
DTSTAMP:20260422T093113Z
SUMMARY:Künstliche Intelligenz im Pfeiler 2 von Horizont Europa
DESCRIPTION:Mitarbeitende mehrerer Nationaler Kontaktstellen geben Ihnen einen Überbl
 ick über Ausschreibungsthemen mit KI-Bezug in den 6 Clustern des Pfeiler 
 2 von Horizont Europa. Im Anschluss wird Ihnen die Möglichkeit für Proje
 ct Pitches und Vernetzung mit anderen Teilnehmenden gegeben. 
LOCATION:online
CREATED:20230116T115118
LAST-MODIFIED:20230116T115118
DTSTART;VALUE=DATE:20230127T100000
DTEND;VALUE=DATE:20230127T123000
UID:sn_685_date_0@logic-works.net
END:VEVENT
END:VCALENDAR