BEGIN:VCALENDAR
METHOD:PUBLISH
PRODID:-//LogicWorks GmbH//NONSGML Contentory//EN
VERSION:2.0
CALSCALE:GREGORIAN
X-MS-OLK-FORCEINSPECTOROPEN:TRUE
BEGIN:VEVENT
DTSTAMP:20260422T141057Z
SUMMARY:â€žKaffeepauseâ€œ der NKS DIT â€“ Thema: ZusÃ¤tzliche Ausschreibungen im â
 €žHorizontal Activitiesâ€œ Arbeitsprogramm 2027
DESCRIPTION:In unserem offenen Austauschformat\, der â€žKaffeepauseâ€œ\, besprechen wi
 r diesmal die zusÃ¤tzlichen Ausschreibungen im Programmteil â€žHorizontal 
 Activitiesâ€œ fÃ¼r das Jahr 2027.
LOCATION:Online
CREATED:20260421T132244
LAST-MODIFIED:20260421T132244
DTSTART;VALUE=DATE:20260529T113000
DTEND;VALUE=DATE:20260529T121500
UID:sn_2207_date_0@logic-works.net
END:VEVENT
END:VCALENDAR