BEGIN:VCALENDAR
METHOD:PUBLISH
PRODID:-//LogicWorks GmbH//NONSGML Contentory//EN
VERSION:2.0
CALSCALE:GREGORIAN
X-MS-OLK-FORCEINSPECTOROPEN:TRUE
BEGIN:VEVENT
DTSTAMP:20260421T230157Z
SUMMARY:„Kaffeepause“ der NKS DIT – Last-Minute Fragen zu Destination 1 & 2
DESCRIPTION:Offenes einstündiges Format\, bei dem es diesmal um Ihre Last-Minute Frag
 en zu den Ausschreibungen in den Destinations 1 und 2 von Cluster 4 gehen 
 soll.
LOCATION:Online
CREATED:20230221T102454
LAST-MODIFIED:20230221T143724
DTSTART;VALUE=DATE:20230413T090000
DTEND;VALUE=DATE:20230413T100000
UID:sn_720_date_0@logic-works.net
END:VEVENT
END:VCALENDAR