BEGIN:VCALENDAR
METHOD:PUBLISH
PRODID:-//LogicWorks GmbH//NONSGML Contentory//EN
VERSION:2.0
CALSCALE:GREGORIAN
X-MS-OLK-FORCEINSPECTOROPEN:TRUE
BEGIN:VEVENT
DTSTAMP:20260422T134742Z
SUMMARY:„Kaffeepause“ der NKS DIT – Thema: Info Days der EU-Kommission
DESCRIPTION:In unserem offenen Austauschformat\, der „Kaffeepause“\, besprechen wi
 r diesmal das aktuelle Format der Info Days\, die die EU-Kommission zur Ö
 ffnung der Calls veranstaltet und diskutieren mögliche Verbesserungsvorsc
 hläge.
LOCATION:Online
CREATED:20260421T132611
LAST-MODIFIED:20260421T132611
DTSTART;VALUE=DATE:20260626T113000
DTEND;VALUE=DATE:20260626T121500
UID:sn_2210_date_0@logic-works.net
END:VEVENT
END:VCALENDAR