BEGIN:VCALENDAR
METHOD:PUBLISH
PRODID:-//LogicWorks GmbH//NONSGML Contentory//EN
VERSION:2.0
CALSCALE:GREGORIAN
X-MS-OLK-FORCEINSPECTOROPEN:TRUE
BEGIN:VEVENT
DTSTAMP:20260423T122651Z
SUMMARY:„Kaffeepause“ der NKS DIT: Rückblick auf das nationale Stakeholdertre
 ffen für Cluster 4
DESCRIPTION:Die erste NKS DIT Kaffeepause im neuen Jahr wollen wir nutzen\, um mit Ihn
 en auf unser NKS DIT Event „Nationales Stakeholdertreffen für Cluster 4
 “ zurückzublicken.
LOCATION:online
CREATED:20241213T144827
LAST-MODIFIED:20241213T150624
DTSTART;VALUE=DATE:20250131T113000
DTEND;VALUE=DATE:20250131T121500
UID:sn_1349_date_0@logic-works.net
END:VEVENT
END:VCALENDAR