BEGIN:VCALENDAR
METHOD:PUBLISH
PRODID:-//LogicWorks GmbH//NONSGML Contentory//EN
VERSION:2.0
CALSCALE:GREGORIAN
X-MS-OLK-FORCEINSPECTOROPEN:TRUE
BEGIN:VEVENT
DTSTAMP:20260423T135151Z
SUMMARY:„Kaffeepause“ der NKS DIT: KI in Europa
DESCRIPTION:Offenes Austausch-Format – diesmal mit dem Thema „KI in Europa“
LOCATION:online
CREATED:20240611T125721
LAST-MODIFIED:20240611T130458
DTSTART;VALUE=DATE:20240628T113000
DTEND;VALUE=DATE:20240628T121500
UID:sn_1116_date_0@logic-works.net
END:VEVENT
END:VCALENDAR