BEGIN:VCALENDAR
METHOD:PUBLISH
PRODID:-//LogicWorks GmbH//NONSGML Contentory//EN
VERSION:2.0
CALSCALE:GREGORIAN
X-MS-OLK-FORCEINSPECTOROPEN:TRUE
BEGIN:VEVENT
DTSTAMP:20260421T162756Z
SUMMARY:„Kaffeepause“ der NKS DIT
DESCRIPTION:Offenes einstündiges Format zur Information über die Teilnahme an Broker
 age Events.
LOCATION:Online
CREATED:20221006T162252
LAST-MODIFIED:20221006T162601
DTSTART;VALUE=DATE:20221027T090000
DTEND;VALUE=DATE:20221027T100000
UID:sn_598_date_0@logic-works.net
END:VEVENT
END:VCALENDAR