BEGIN:VCALENDAR
METHOD:PUBLISH
PRODID:-//LogicWorks GmbH//NONSGML Contentory//EN
VERSION:2.0
CALSCALE:GREGORIAN
X-MS-OLK-FORCEINSPECTOROPEN:TRUE
BEGIN:VEVENT
DTSTAMP:20260423T134203Z
SUMMARY:„Kaffeepause“ der NKS DIT
DESCRIPTION:Offenes einstündiges Format zu Informationen über die Europäischen Part
 nerschaften in Horizont Europa.
LOCATION:Online
CREATED:20220822T102127
LAST-MODIFIED:20220822T103311
DTSTART;VALUE=DATE:20220825T100000
DTEND;VALUE=DATE:20220825T110000
UID:sn_574_date_0@logic-works.net
END:VEVENT
END:VCALENDAR