BEGIN:VCALENDAR
METHOD:PUBLISH
PRODID:-//LogicWorks GmbH//NONSGML Contentory//EN
VERSION:2.0
CALSCALE:GREGORIAN
X-MS-OLK-FORCEINSPECTOROPEN:TRUE
BEGIN:VEVENT
DTSTAMP:20260426T051735Z
SUMMARY:„Kaffeepause“ der NKS DIT
DESCRIPTION:Offenes einstündiges Format zu Open Innovation Test Beds (OITBs)
LOCATION:Online
CREATED:20240416T090659
LAST-MODIFIED:20240416T092800
DTSTART;VALUE=DATE:20240426T113000
DTEND;VALUE=DATE:20240426T121500
UID:sn_978_date_0@logic-works.net
END:VEVENT
END:VCALENDAR