BEGIN:VCALENDAR
METHOD:PUBLISH
PRODID:-//LogicWorks GmbH//NONSGML Contentory//EN
VERSION:2.0
CALSCALE:GREGORIAN
X-MS-OLK-FORCEINSPECTOROPEN:TRUE
BEGIN:VEVENT
DTSTAMP:20260423T120951Z
SUMMARY:„Kaffeepause“ der NKS DIT – Last-minute Fragen zu Dest. 3\, 4 & 6
DESCRIPTION:Offenes einstündiges Format\, bei dem es diesmal um Ihre last-minute Frag
 en zu den Ausschreibungen in den Destinations 3\, 4 und 6 von Cluster 4 ge
 hen soll.
LOCATION:Online
CREATED:20230216T143442
LAST-MODIFIED:20230216T143836
DTSTART;VALUE=DATE:20230323T090000
DTEND;VALUE=DATE:20230323T100000
UID:sn_718_date_0@logic-works.net
END:VEVENT
END:VCALENDAR